BEGIN:VCALENDAR
VERSION:2.0
PRODID:-//Tree of Life - ECPv6.15.18//NONSGML v1.0//EN
CALSCALE:GREGORIAN
METHOD:PUBLISH
X-ORIGINAL-URL:https://www.tolministries.org
X-WR-CALDESC:Events for Tree of Life
REFRESH-INTERVAL;VALUE=DURATION:PT1H
X-Robots-Tag:noindex
X-PUBLISHED-TTL:PT1H
BEGIN:VTIMEZONE
TZID:America/New_York
BEGIN:DAYLIGHT
TZOFFSETFROM:-0500
TZOFFSETTO:-0400
TZNAME:EDT
DTSTART:20220313T070000
END:DAYLIGHT
BEGIN:STANDARD
TZOFFSETFROM:-0400
TZOFFSETTO:-0500
TZNAME:EST
DTSTART:20221106T060000
END:STANDARD
BEGIN:DAYLIGHT
TZOFFSETFROM:-0500
TZOFFSETTO:-0400
TZNAME:EDT
DTSTART:20230312T070000
END:DAYLIGHT
BEGIN:STANDARD
TZOFFSETFROM:-0400
TZOFFSETTO:-0500
TZNAME:EST
DTSTART:20231105T060000
END:STANDARD
BEGIN:DAYLIGHT
TZOFFSETFROM:-0500
TZOFFSETTO:-0400
TZNAME:EDT
DTSTART:20240310T070000
END:DAYLIGHT
BEGIN:STANDARD
TZOFFSETFROM:-0400
TZOFFSETTO:-0500
TZNAME:EST
DTSTART:20241103T060000
END:STANDARD
BEGIN:DAYLIGHT
TZOFFSETFROM:-0500
TZOFFSETTO:-0400
TZNAME:EDT
DTSTART:20250309T070000
END:DAYLIGHT
BEGIN:STANDARD
TZOFFSETFROM:-0400
TZOFFSETTO:-0500
TZNAME:EST
DTSTART:20251102T060000
END:STANDARD
BEGIN:DAYLIGHT
TZOFFSETFROM:-0500
TZOFFSETTO:-0400
TZNAME:EDT
DTSTART:20260308T070000
END:DAYLIGHT
BEGIN:STANDARD
TZOFFSETFROM:-0400
TZOFFSETTO:-0500
TZNAME:EST
DTSTART:20261101T060000
END:STANDARD
END:VTIMEZONE
BEGIN:VEVENT
DTSTART;TZID=America/New_York:20250616T140000
DTEND;TZID=America/New_York:20250616T150000
DTSTAMP:20260422T065010
CREATED:20250204T163252Z
LAST-MODIFIED:20250204T163252Z
UID:12476-1750082400-1750086000@www.tolministries.org
SUMMARY:Day Break Bible Study at Spring Arbor
DESCRIPTION:Day Break (seniors 55+) Bible Study at Spring Arbor 2-3pm.
URL:https://www.tolministries.org/event/day-break-bible-study-at-spring-arbor-2-2/
LOCATION:Spring Arbor\, 237 Fairview Street\, NW\, Leesburg\, VA\, 20176\, United States
CATEGORIES:Relief
END:VEVENT
BEGIN:VEVENT
DTSTART;TZID=America/New_York:20250421T140000
DTEND;TZID=America/New_York:20250421T150000
DTSTAMP:20260422T065010
CREATED:20250204T163111Z
LAST-MODIFIED:20250204T163111Z
UID:12474-1745244000-1745247600@www.tolministries.org
SUMMARY:Day Break Bible Study at Spring Arbor
DESCRIPTION:Day Break (seniors 55+) Bible Study at Spring Arbor 2-3pm.
URL:https://www.tolministries.org/event/day-break-bible-study-at-spring-arbor-2/
LOCATION:Spring Arbor\, 237 Fairview Street\, NW\, Leesburg\, VA\, 20176\, United States
CATEGORIES:Relief
END:VEVENT
BEGIN:VEVENT
DTSTART;TZID=America/New_York:20250217T140000
DTEND;TZID=America/New_York:20250217T150000
DTSTAMP:20260422T065010
CREATED:20250204T162920Z
LAST-MODIFIED:20250204T162920Z
UID:12473-1739800800-1739804400@www.tolministries.org
SUMMARY:Day Break Bible Study at Spring Arbor
DESCRIPTION:Day Break (seniors 55+) Bible Study at Spring Arbor 2-3pm.
URL:https://www.tolministries.org/event/day-break-bible-study-at-spring-arbor/
LOCATION:Spring Arbor\, 237 Fairview Street\, NW\, Leesburg\, VA\, 20176\, United States
CATEGORIES:Relief
END:VEVENT
BEGIN:VEVENT
DTSTART;TZID=America/New_York:20240916T140000
DTEND;TZID=America/New_York:20240916T150000
DTSTAMP:20260422T065010
CREATED:20240725T154422Z
LAST-MODIFIED:20240904T142433Z
UID:11539-1726495200-1726498800@www.tolministries.org
SUMMARY:Day Break Worship at Spring Arbor Senior Living - LEESBURG
DESCRIPTION:Join the DayBreak group for worship at Spring Arbor Senior living!
URL:https://www.tolministries.org/event/daybreak-worship-at-spring-arbor-senior-living/
LOCATION:Spring Arbor\, 237 Fairview Street\, NW\, Leesburg\, VA\, 20176\, United States
CATEGORIES:Relief
END:VEVENT
BEGIN:VEVENT
DTSTART;TZID=America/New_York:20230712T140000
DTEND;TZID=America/New_York:20230712T150000
DTSTAMP:20260422T065010
CREATED:20230620T182556Z
LAST-MODIFIED:20230620T182556Z
UID:9288-1689170400-1689174000@www.tolministries.org
SUMMARY:Day Break - Nursing Home Event
DESCRIPTION:For more information or to volunteer\, click HERE.
URL:https://www.tolministries.org/event/day-break-nursing-home-event/
LOCATION:Spring Arbor\, 237 Fairview Street\, NW\, Leesburg\, VA\, 20176\, United States
CATEGORIES:Relief
END:VEVENT
END:VCALENDAR