BEGIN:VCALENDAR
VERSION:2.0
PRODID:-//Tree of Life - ECPv6.15.18//NONSGML v1.0//EN
CALSCALE:GREGORIAN
METHOD:PUBLISH
X-ORIGINAL-URL:https://www.tolministries.org
X-WR-CALDESC:Events for Tree of Life
REFRESH-INTERVAL;VALUE=DURATION:PT1H
X-Robots-Tag:noindex
X-PUBLISHED-TTL:PT1H
BEGIN:VTIMEZONE
TZID:America/New_York
BEGIN:DAYLIGHT
TZOFFSETFROM:-0500
TZOFFSETTO:-0400
TZNAME:EDT
DTSTART:20240310T070000
END:DAYLIGHT
BEGIN:STANDARD
TZOFFSETFROM:-0400
TZOFFSETTO:-0500
TZNAME:EST
DTSTART:20241103T060000
END:STANDARD
BEGIN:DAYLIGHT
TZOFFSETFROM:-0500
TZOFFSETTO:-0400
TZNAME:EDT
DTSTART:20250309T070000
END:DAYLIGHT
BEGIN:STANDARD
TZOFFSETFROM:-0400
TZOFFSETTO:-0500
TZNAME:EST
DTSTART:20251102T060000
END:STANDARD
BEGIN:DAYLIGHT
TZOFFSETFROM:-0500
TZOFFSETTO:-0400
TZNAME:EDT
DTSTART:20260308T070000
END:DAYLIGHT
BEGIN:STANDARD
TZOFFSETFROM:-0400
TZOFFSETTO:-0500
TZNAME:EST
DTSTART:20261101T060000
END:STANDARD
END:VTIMEZONE
BEGIN:VEVENT
DTSTART;TZID=America/New_York:20250203T183000
DTEND;TZID=America/New_York:20250203T193000
DTSTAMP:20260424T142324
CREATED:20250203T171724Z
LAST-MODIFIED:20250203T171724Z
UID:12431-1738607400-1738611000@www.tolministries.org
SUMMARY:Still Waters Cooking Class - I Can Cook a Rainbow
DESCRIPTION:Join us for fun-filled cooking class with Loudoun Hunger Relief!   \nThis class will focus on meal planning and meal assembly. Attendees will create a one-dish meal by choosing a protein\, starch\, 2 vegetables\, and a “sauce”.  Their “Dinner Bingo” card would have cooking instructions for thier meal. \nThank you to Loudoun Hunger Relief and the Virginia Cooperative Extension Loudoun Master Food Volunteers for making this possible!
URL:https://www.tolministries.org/event/still-waters-cooking-class-i-can-cook-a-rainbow/
LOCATION:Hamilton Baptist Church\, 16 E Colonial Hwy\, Hamilton\, VA\, 20158\, United States
CATEGORIES:Relief
END:VEVENT
BEGIN:VEVENT
DTSTART;TZID=America/New_York:20250213T113000
DTEND;TZID=America/New_York:20250213T123000
DTSTAMP:20260424T142324
CREATED:20250203T184132Z
LAST-MODIFIED:20250204T145651Z
UID:12435-1739446200-1739449800@www.tolministries.org
SUMMARY:Still Waters Bible Study at SimplyBe
DESCRIPTION:Join the Still Waters ministry for our bi-weekly bible study at SimplyBe\, 11:30AM – 12:30PM
URL:https://www.tolministries.org/event/still-waters-bible-study-at-simplybe-2/
LOCATION:VA
CATEGORIES:Relief
END:VEVENT
BEGIN:VEVENT
DTSTART;TZID=America/New_York:20250217T150000
DTEND;TZID=America/New_York:20250217T163000
DTSTAMP:20260424T142324
CREATED:20250203T172515Z
LAST-MODIFIED:20250204T134123Z
UID:12432-1739804400-1739809800@www.tolministries.org
SUMMARY:Still Waters Bowling Night at the Branch
DESCRIPTION:Join the Still Waters ministry for a night of bowling at the Branch on Monday\, 2/17 from 3-4:30 PM. $10 fee. Pizza and drinks provided.
URL:https://www.tolministries.org/event/still-waters-bowling-night-at-the-branch/
LOCATION:The Branch Bowling\, 49 Catoctin Cir SE\, Leesburg\, VA
CATEGORIES:Relief
END:VEVENT
END:VCALENDAR