BEGIN:VCALENDAR
VERSION:2.0
PRODID:-//Tree of Life - ECPv6.15.18//NONSGML v1.0//EN
CALSCALE:GREGORIAN
METHOD:PUBLISH
X-WR-CALNAME:Tree of Life
X-ORIGINAL-URL:https://www.tolministries.org
X-WR-CALDESC:Events for Tree of Life
REFRESH-INTERVAL;VALUE=DURATION:PT1H
X-Robots-Tag:noindex
X-PUBLISHED-TTL:PT1H
BEGIN:VTIMEZONE
TZID:America/New_York
BEGIN:DAYLIGHT
TZOFFSETFROM:-0500
TZOFFSETTO:-0400
TZNAME:EDT
DTSTART:20240310T070000
END:DAYLIGHT
BEGIN:STANDARD
TZOFFSETFROM:-0400
TZOFFSETTO:-0500
TZNAME:EST
DTSTART:20241103T060000
END:STANDARD
BEGIN:DAYLIGHT
TZOFFSETFROM:-0500
TZOFFSETTO:-0400
TZNAME:EDT
DTSTART:20250309T070000
END:DAYLIGHT
BEGIN:STANDARD
TZOFFSETFROM:-0400
TZOFFSETTO:-0500
TZNAME:EST
DTSTART:20251102T060000
END:STANDARD
BEGIN:DAYLIGHT
TZOFFSETFROM:-0500
TZOFFSETTO:-0400
TZNAME:EDT
DTSTART:20260308T070000
END:DAYLIGHT
BEGIN:STANDARD
TZOFFSETFROM:-0400
TZOFFSETTO:-0500
TZNAME:EST
DTSTART:20261101T060000
END:STANDARD
END:VTIMEZONE
BEGIN:VEVENT
DTSTART;TZID=America/New_York:20250903T110000
DTEND;TZID=America/New_York:20250903T120000
DTSTAMP:20260420T082348
CREATED:20250204T185407Z
LAST-MODIFIED:20251218T190012Z
UID:12540-1756897200-1756900800@www.tolministries.org
SUMMARY:Day Break Loudoun Rehab Bible Study
DESCRIPTION:Join the Day Break group (seniors 55+) for a Bible Study at Loudoun Rehabilitation and Nursing Center in Leesburg from 11am-12pm \n 
URL:https://www.tolministries.org/event/day-break-loudoun-rehab-bible-study/2025-09-03/
LOCATION:VA
CATEGORIES:Relief
END:VEVENT
BEGIN:VEVENT
DTSTART;TZID=America/New_York:20250903T113000
DTEND;TZID=America/New_York:20250903T123000
DTSTAMP:20260420T082348
CREATED:20250204T192514Z
LAST-MODIFIED:20250204T192514Z
UID:12575-1756899000-1756902600@www.tolministries.org
SUMMARY:Still Waters Bible Study at SimplyBe
DESCRIPTION:Join the Still Waters Ministry for a bible study at SimplyBe Coffee every other Weds from 11:30AM – 12:30PM
URL:https://www.tolministries.org/event/still-waters-bible-study-at-simplybe-13-2-2-2/
LOCATION:SimplyBe\, 208 Church St SE\, Leesburg\, VA\, 20176
CATEGORIES:Relief
END:VEVENT
BEGIN:VEVENT
DTSTART;TZID=America/New_York:20250904T110000
DTEND;TZID=America/New_York:20250904T120000
DTSTAMP:20260420T082348
CREATED:20250204T162649Z
LAST-MODIFIED:20250204T162649Z
UID:12509-1756983600-1756987200@www.tolministries.org
SUMMARY:Day Break Bible Study at BRBC
DESCRIPTION:Weekly Day Break bible study (seniors 55+) at Blue Ridge Bible Church from 11am-12pm.
URL:https://www.tolministries.org/event/day-break-bible-study-at-brbc/2025-09-04/
LOCATION:Blue Ridge Bible Church\, 770 S 20th St\, Purcellville\, Virginia\, 20132
CATEGORIES:Relief
END:VEVENT
BEGIN:VEVENT
DTSTART;TZID=America/New_York:20250910T110000
DTEND;TZID=America/New_York:20250910T120000
DTSTAMP:20260420T082348
CREATED:20250204T185407Z
LAST-MODIFIED:20251218T190012Z
UID:12541-1757502000-1757505600@www.tolministries.org
SUMMARY:Day Break Loudoun Rehab Bible Study
DESCRIPTION:Join the Day Break group (seniors 55+) for a Bible Study at Loudoun Rehabilitation and Nursing Center in Leesburg from 11am-12pm \n 
URL:https://www.tolministries.org/event/day-break-loudoun-rehab-bible-study/2025-09-10/
LOCATION:VA
CATEGORIES:Relief
END:VEVENT
BEGIN:VEVENT
DTSTART;TZID=America/New_York:20250910T120000
DTEND;TZID=America/New_York:20250910T143000
DTSTAMP:20260420T082348
CREATED:20250804T165601Z
LAST-MODIFIED:20250804T165601Z
UID:13139-1757505600-1757514600@www.tolministries.org
SUMMARY:DAY BREAK End of Summer Picnic
DESCRIPTION:Join us for this annual celebration! \n  \nOur End of Summer Picnic is September 10th\, and we’d love to see you there… \n  \n \n  \n 
URL:https://www.tolministries.org/event/daybreak-picnic-2025/
LOCATION:Franklin Park\, 17501 Franklin Park Drive\, Purcellville\, VA\, 20132
CATEGORIES:Relief
END:VEVENT
BEGIN:VEVENT
DTSTART;TZID=America/New_York:20250911T113000
DTEND;TZID=America/New_York:20250911T123000
DTSTAMP:20260420T082348
CREATED:20250204T154031Z
LAST-MODIFIED:20250204T154106Z
UID:12462-1757590200-1757593800@www.tolministries.org
SUMMARY:Still Waters Bible Study at SimplyBe
DESCRIPTION:Join the Still Waters Ministry for a bible study at SimplyBe coffee 11:30am-12:30pm
URL:https://www.tolministries.org/event/still-waters-bible-study-at-simplybe-12-2-3-2/
LOCATION:SimplyBe\, 208 Church St SE\, Leesburg\, VA\, 20176
CATEGORIES:Relief
END:VEVENT
BEGIN:VEVENT
DTSTART;TZID=America/New_York:20250915T183000
DTEND;TZID=America/New_York:20250915T193000
DTSTAMP:20260420T082348
CREATED:20250904T153257Z
LAST-MODIFIED:20250904T153755Z
UID:13194-1757961000-1757964600@www.tolministries.org
SUMMARY:Still Waters Ice Cream Social
DESCRIPTION:We would love for you to join us to kick off the Still Waters Fall/Winter calendar that is full of fun and exciting opportunities! \nJoin us for ice cream and games\, come see old and new friends and meet the TOL staff supporting the Still Waters ministry. We will be meeting under the pavillion outside of the Loudoun Valley Community Center building. \nSign up HERE.\n  \n 
URL:https://www.tolministries.org/event/still-waters-ice-cream-social-2/
LOCATION:Loudoun Valley Community Center\, 320 W School Street\, Purcellville\, VA\, 20132
CATEGORIES:Relief
END:VEVENT
BEGIN:VEVENT
DTSTART;TZID=America/New_York:20250917T110000
DTEND;TZID=America/New_York:20250917T120000
DTSTAMP:20260420T082348
CREATED:20250204T185407Z
LAST-MODIFIED:20251218T190013Z
UID:12542-1758106800-1758110400@www.tolministries.org
SUMMARY:Day Break Loudoun Rehab Bible Study
DESCRIPTION:Join the Day Break group (seniors 55+) for a Bible Study at Loudoun Rehabilitation and Nursing Center in Leesburg from 11am-12pm \n 
URL:https://www.tolministries.org/event/day-break-loudoun-rehab-bible-study/2025-09-17/
LOCATION:VA
CATEGORIES:Relief
END:VEVENT
BEGIN:VEVENT
DTSTART;TZID=America/New_York:20250917T113000
DTEND;TZID=America/New_York:20250917T123000
DTSTAMP:20260420T082348
CREATED:20250204T192636Z
LAST-MODIFIED:20250204T192636Z
UID:12576-1758108600-1758112200@www.tolministries.org
SUMMARY:Still Waters Bible Study at SimplyBe
DESCRIPTION:Join the Still Waters Ministry for a bible study at SimplyBe Coffee every other Weds from 11:30AM – 12:30PM
URL:https://www.tolministries.org/event/still-waters-bible-study-at-simplybe-13-2-2-2-2/
LOCATION:SimplyBe\, 208 Church St SE\, Leesburg\, VA\, 20176
CATEGORIES:Relief
END:VEVENT
BEGIN:VEVENT
DTSTART;TZID=America/New_York:20250924T110000
DTEND;TZID=America/New_York:20250924T120000
DTSTAMP:20260420T082348
CREATED:20250204T185407Z
LAST-MODIFIED:20251218T190013Z
UID:12543-1758711600-1758715200@www.tolministries.org
SUMMARY:Day Break Loudoun Rehab Bible Study
DESCRIPTION:Join the Day Break group (seniors 55+) for a Bible Study at Loudoun Rehabilitation and Nursing Center in Leesburg from 11am-12pm \n 
URL:https://www.tolministries.org/event/day-break-loudoun-rehab-bible-study/2025-09-24/
LOCATION:VA
CATEGORIES:Relief
END:VEVENT
BEGIN:VEVENT
DTSTART;TZID=America/New_York:20250925T113000
DTEND;TZID=America/New_York:20250925T123000
DTSTAMP:20260420T082348
CREATED:20250204T154318Z
LAST-MODIFIED:20250204T154318Z
UID:12463-1758799800-1758803400@www.tolministries.org
SUMMARY:Still Waters Bible Study at SimplyBe
DESCRIPTION:Join the Still Waters Ministry for a bible study at SimplyBe coffee 11:30am-12:30pm
URL:https://www.tolministries.org/event/still-waters-bible-study-at-simplybe-12-2-3-2-2/
LOCATION:SimplyBe\, 208 Church St SE\, Leesburg\, VA\, 20176
CATEGORIES:Relief
END:VEVENT
BEGIN:VEVENT
DTSTART;TZID=America/New_York:20250929T183000
DTEND;TZID=America/New_York:20250929T200000
DTSTAMP:20260420T082348
CREATED:20250904T153505Z
LAST-MODIFIED:20250904T153621Z
UID:13195-1759170600-1759176000@www.tolministries.org
SUMMARY:Still Waters Pizza & Bingo
DESCRIPTION:Still Water Pizza & Bingo Night!! \nJoin us for a fun-filled evening of pizza\, salad\, dessert and BINGO on Monday\, September 29th from 6:30 – 8:00 PM at the TOL center! Prizes await our lucky winners\, and good times are guaranteed. Sign-up is appreciated so we can plan accordingly. Don’t miss it! \nSign up HERE.\n  \n 
URL:https://www.tolministries.org/event/still-waters-pizza-bingo/
LOCATION:Tree of Life Center – Purcellville\, 115 East Main Street\, Purcellville\, VA\, 20132\, United States
CATEGORIES:Relief
END:VEVENT
END:VCALENDAR