BEGIN:VCALENDAR
VERSION:2.0
PRODID:-//Tree of Life - ECPv6.15.18//NONSGML v1.0//EN
CALSCALE:GREGORIAN
METHOD:PUBLISH
X-WR-CALNAME:Tree of Life
X-ORIGINAL-URL:https://www.tolministries.org
X-WR-CALDESC:Events for Tree of Life
REFRESH-INTERVAL;VALUE=DURATION:PT1H
X-Robots-Tag:noindex
X-PUBLISHED-TTL:PT1H
BEGIN:VTIMEZONE
TZID:America/New_York
BEGIN:DAYLIGHT
TZOFFSETFROM:-0500
TZOFFSETTO:-0400
TZNAME:EDT
DTSTART:20250309T070000
END:DAYLIGHT
BEGIN:STANDARD
TZOFFSETFROM:-0400
TZOFFSETTO:-0500
TZNAME:EST
DTSTART:20251102T060000
END:STANDARD
BEGIN:DAYLIGHT
TZOFFSETFROM:-0500
TZOFFSETTO:-0400
TZNAME:EDT
DTSTART:20260308T070000
END:DAYLIGHT
BEGIN:STANDARD
TZOFFSETFROM:-0400
TZOFFSETTO:-0500
TZNAME:EST
DTSTART:20261101T060000
END:STANDARD
BEGIN:DAYLIGHT
TZOFFSETFROM:-0500
TZOFFSETTO:-0400
TZNAME:EDT
DTSTART:20270314T070000
END:DAYLIGHT
BEGIN:STANDARD
TZOFFSETFROM:-0400
TZOFFSETTO:-0500
TZNAME:EST
DTSTART:20271107T060000
END:STANDARD
END:VTIMEZONE
BEGIN:VEVENT
DTSTART;TZID=America/New_York:20260901T183000
DTEND;TZID=America/New_York:20260901T193000
DTSTAMP:20260419T170704
CREATED:20251218T183445Z
LAST-MODIFIED:20260309T195527Z
UID:13512-1788287400-1788291000@www.tolministries.org
SUMMARY:Community Dinner STERLING
DESCRIPTION:Join us for a FREE Community Dinner on Tuesday evenings! \nWe’ll have hot\, delicious food and great fellowship – we hope to see you there. \n  \nSign up for text notifications about this and other Tree of Life events by texting TOLSTERLING to 833-491-0002.
URL:https://www.tolministries.org/event/communtiy-dinner-sterling/2026-09-01/
LOCATION:Sterling Community Center\, 120 Enterprise Street\, Sterling\, 20164
CATEGORIES:Food
END:VEVENT
BEGIN:VEVENT
DTSTART;TZID=America/New_York:20260903T173000
DTEND;TZID=America/New_York:20260903T183000
DTSTAMP:20260419T170704
CREATED:20251218T183316Z
LAST-MODIFIED:20251218T183316Z
UID:13538-1788456600-1788460200@www.tolministries.org
SUMMARY:Community Dinner PURCELLVILLE
DESCRIPTION:Join us for a FREE Community Dinner on Thursday evenings! \nWe’ll have hot\, delicious food and great fellowship – we hope to see you there. \n  \nSign up for text notifications about this and other Tree of Life events by texting TOLPURCELLVILLE to 833-491-0002.
URL:https://www.tolministries.org/event/community-dinner-purcellville-2/2026-09-03/
LOCATION:Tree of Life Center – Purcellville\, 115 East Main Street\, Purcellville\, VA\, 20132\, United States
CATEGORIES:Food
END:VEVENT
BEGIN:VEVENT
DTSTART;TZID=America/New_York:20260908T183000
DTEND;TZID=America/New_York:20260908T193000
DTSTAMP:20260419T170704
CREATED:20251218T183445Z
LAST-MODIFIED:20260309T195528Z
UID:13513-1788892200-1788895800@www.tolministries.org
SUMMARY:Community Dinner STERLING
DESCRIPTION:Join us for a FREE Community Dinner on Tuesday evenings! \nWe’ll have hot\, delicious food and great fellowship – we hope to see you there. \n  \nSign up for text notifications about this and other Tree of Life events by texting TOLSTERLING to 833-491-0002.
URL:https://www.tolministries.org/event/communtiy-dinner-sterling/2026-09-08/
LOCATION:Sterling Community Center\, 120 Enterprise Street\, Sterling\, 20164
CATEGORIES:Food
END:VEVENT
BEGIN:VEVENT
DTSTART;TZID=America/New_York:20260910T173000
DTEND;TZID=America/New_York:20260910T183000
DTSTAMP:20260419T170704
CREATED:20251218T183316Z
LAST-MODIFIED:20251218T183316Z
UID:13539-1789061400-1789065000@www.tolministries.org
SUMMARY:Community Dinner PURCELLVILLE
DESCRIPTION:Join us for a FREE Community Dinner on Thursday evenings! \nWe’ll have hot\, delicious food and great fellowship – we hope to see you there. \n  \nSign up for text notifications about this and other Tree of Life events by texting TOLPURCELLVILLE to 833-491-0002.
URL:https://www.tolministries.org/event/community-dinner-purcellville-2/2026-09-10/
LOCATION:Tree of Life Center – Purcellville\, 115 East Main Street\, Purcellville\, VA\, 20132\, United States
CATEGORIES:Food
END:VEVENT
BEGIN:VEVENT
DTSTART;TZID=America/New_York:20260915T183000
DTEND;TZID=America/New_York:20260915T193000
DTSTAMP:20260419T170704
CREATED:20251218T183445Z
LAST-MODIFIED:20260309T195528Z
UID:13514-1789497000-1789500600@www.tolministries.org
SUMMARY:Community Dinner STERLING
DESCRIPTION:Join us for a FREE Community Dinner on Tuesday evenings! \nWe’ll have hot\, delicious food and great fellowship – we hope to see you there. \n  \nSign up for text notifications about this and other Tree of Life events by texting TOLSTERLING to 833-491-0002.
URL:https://www.tolministries.org/event/communtiy-dinner-sterling/2026-09-15/
LOCATION:Sterling Community Center\, 120 Enterprise Street\, Sterling\, 20164
CATEGORIES:Food
END:VEVENT
BEGIN:VEVENT
DTSTART;TZID=America/New_York:20260917T173000
DTEND;TZID=America/New_York:20260917T183000
DTSTAMP:20260419T170704
CREATED:20251218T183316Z
LAST-MODIFIED:20251218T183316Z
UID:13540-1789666200-1789669800@www.tolministries.org
SUMMARY:Community Dinner PURCELLVILLE
DESCRIPTION:Join us for a FREE Community Dinner on Thursday evenings! \nWe’ll have hot\, delicious food and great fellowship – we hope to see you there. \n  \nSign up for text notifications about this and other Tree of Life events by texting TOLPURCELLVILLE to 833-491-0002.
URL:https://www.tolministries.org/event/community-dinner-purcellville-2/2026-09-17/
LOCATION:Tree of Life Center – Purcellville\, 115 East Main Street\, Purcellville\, VA\, 20132\, United States
CATEGORIES:Food
END:VEVENT
BEGIN:VEVENT
DTSTART;TZID=America/New_York:20260922T183000
DTEND;TZID=America/New_York:20260922T193000
DTSTAMP:20260419T170704
CREATED:20251218T183445Z
LAST-MODIFIED:20260309T195528Z
UID:13515-1790101800-1790105400@www.tolministries.org
SUMMARY:Community Dinner STERLING
DESCRIPTION:Join us for a FREE Community Dinner on Tuesday evenings! \nWe’ll have hot\, delicious food and great fellowship – we hope to see you there. \n  \nSign up for text notifications about this and other Tree of Life events by texting TOLSTERLING to 833-491-0002.
URL:https://www.tolministries.org/event/communtiy-dinner-sterling/2026-09-22/
LOCATION:Sterling Community Center\, 120 Enterprise Street\, Sterling\, 20164
CATEGORIES:Food
END:VEVENT
BEGIN:VEVENT
DTSTART;TZID=America/New_York:20260924T173000
DTEND;TZID=America/New_York:20260924T183000
DTSTAMP:20260419T170704
CREATED:20251218T183316Z
LAST-MODIFIED:20251218T183316Z
UID:13541-1790271000-1790274600@www.tolministries.org
SUMMARY:Community Dinner PURCELLVILLE
DESCRIPTION:Join us for a FREE Community Dinner on Thursday evenings! \nWe’ll have hot\, delicious food and great fellowship – we hope to see you there. \n  \nSign up for text notifications about this and other Tree of Life events by texting TOLPURCELLVILLE to 833-491-0002.
URL:https://www.tolministries.org/event/community-dinner-purcellville-2/2026-09-24/
LOCATION:Tree of Life Center – Purcellville\, 115 East Main Street\, Purcellville\, VA\, 20132\, United States
CATEGORIES:Food
END:VEVENT
BEGIN:VEVENT
DTSTART;TZID=America/New_York:20260929T183000
DTEND;TZID=America/New_York:20260929T193000
DTSTAMP:20260419T170704
CREATED:20251218T183445Z
LAST-MODIFIED:20260309T195529Z
UID:13516-1790706600-1790710200@www.tolministries.org
SUMMARY:Community Dinner STERLING
DESCRIPTION:Join us for a FREE Community Dinner on Tuesday evenings! \nWe’ll have hot\, delicious food and great fellowship – we hope to see you there. \n  \nSign up for text notifications about this and other Tree of Life events by texting TOLSTERLING to 833-491-0002.
URL:https://www.tolministries.org/event/communtiy-dinner-sterling/2026-09-29/
LOCATION:Sterling Community Center\, 120 Enterprise Street\, Sterling\, 20164
CATEGORIES:Food
END:VEVENT
END:VCALENDAR