BEGIN:VCALENDAR
VERSION:2.0
PRODID:-//Tree of Life - ECPv6.15.18//NONSGML v1.0//EN
CALSCALE:GREGORIAN
METHOD:PUBLISH
X-ORIGINAL-URL:https://www.tolministries.org
X-WR-CALDESC:Events for Tree of Life
REFRESH-INTERVAL;VALUE=DURATION:PT1H
X-Robots-Tag:noindex
X-PUBLISHED-TTL:PT1H
BEGIN:VTIMEZONE
TZID:America/New_York
BEGIN:DAYLIGHT
TZOFFSETFROM:-0500
TZOFFSETTO:-0400
TZNAME:EDT
DTSTART:20240310T070000
END:DAYLIGHT
BEGIN:STANDARD
TZOFFSETFROM:-0400
TZOFFSETTO:-0500
TZNAME:EST
DTSTART:20241103T060000
END:STANDARD
BEGIN:DAYLIGHT
TZOFFSETFROM:-0500
TZOFFSETTO:-0400
TZNAME:EDT
DTSTART:20250309T070000
END:DAYLIGHT
BEGIN:STANDARD
TZOFFSETFROM:-0400
TZOFFSETTO:-0500
TZNAME:EST
DTSTART:20251102T060000
END:STANDARD
BEGIN:DAYLIGHT
TZOFFSETFROM:-0500
TZOFFSETTO:-0400
TZNAME:EDT
DTSTART:20260308T070000
END:DAYLIGHT
BEGIN:STANDARD
TZOFFSETFROM:-0400
TZOFFSETTO:-0500
TZNAME:EST
DTSTART:20261101T060000
END:STANDARD
BEGIN:DAYLIGHT
TZOFFSETFROM:-0500
TZOFFSETTO:-0400
TZNAME:EDT
DTSTART:20270314T070000
END:DAYLIGHT
BEGIN:STANDARD
TZOFFSETFROM:-0400
TZOFFSETTO:-0500
TZNAME:EST
DTSTART:20271107T060000
END:STANDARD
END:VTIMEZONE
BEGIN:VEVENT
DTSTART;VALUE=DATE:20251229
DTEND;VALUE=DATE:20260103
DTSTAMP:20260419T114933
CREATED:20251124T161505Z
LAST-MODIFIED:20251124T161522Z
UID:13403-1766966400-1767398399@www.tolministries.org
SUMMARY:Eastern Loudoun Pantry Closed
DESCRIPTION:Our Eastern Loudoun Food Pantry will be closed 12/29-1/2 for the holidays. \n  \nHappy New Year!
URL:https://www.tolministries.org/event/eastern-loudoun-food-pantry-closed/
LOCATION:VA
CATEGORIES:Food
END:VEVENT
BEGIN:VEVENT
DTSTART;TZID=America/New_York:20260106T180000
DTEND;TZID=America/New_York:20260106T190000
DTSTAMP:20260419T114933
CREATED:20251218T183004Z
LAST-MODIFIED:20251218T183004Z
UID:13424-1767722400-1767726000@www.tolministries.org
SUMMARY:Community Dinner LEESBURG
DESCRIPTION:Join us for a FREE Community Dinner on Tuesday evenings! \nWe’ll have hot\, delicious food and great fellowship – we hope to see you there. \n  \nSign up for text notifications about this and other Tree of Life events by texting TOLLEESBURG to 833-491-0002.
URL:https://www.tolministries.org/event/community-dinner-leesburg-4/2026-01-06/
LOCATION:Crossroads Baptist Church\, 850 Edwards Ferry Rd NE\, Leesburg\, VA\, 20176
CATEGORIES:Food
END:VEVENT
BEGIN:VEVENT
DTSTART;TZID=America/New_York:20260106T183000
DTEND;TZID=America/New_York:20260106T193000
DTSTAMP:20260419T114933
CREATED:20251218T183445Z
LAST-MODIFIED:20260309T195502Z
UID:13476-1767724200-1767727800@www.tolministries.org
SUMMARY:Community Dinner STERLING
DESCRIPTION:Join us for a FREE Community Dinner on Tuesday evenings! \nWe’ll have hot\, delicious food and great fellowship – we hope to see you there. \n  \nSign up for text notifications about this and other Tree of Life events by texting TOLSTERLING to 833-491-0002.
URL:https://www.tolministries.org/event/communtiy-dinner-sterling/2026-01-06/
LOCATION:Sterling Community Center\, 120 Enterprise Street\, Sterling\, 20164
CATEGORIES:Food
END:VEVENT
BEGIN:VEVENT
DTSTART;TZID=America/New_York:20260108T173000
DTEND;TZID=America/New_York:20260108T183000
DTSTAMP:20260419T114933
CREATED:20251218T183316Z
LAST-MODIFIED:20251218T183316Z
UID:13445-1767893400-1767897000@www.tolministries.org
SUMMARY:Community Dinner PURCELLVILLE
DESCRIPTION:Join us for a FREE Community Dinner on Thursday evenings! \nWe’ll have hot\, delicious food and great fellowship – we hope to see you there. \n  \nSign up for text notifications about this and other Tree of Life events by texting TOLPURCELLVILLE to 833-491-0002.
URL:https://www.tolministries.org/event/community-dinner-purcellville-2/2026-01-08/
LOCATION:Tree of Life Center – Purcellville\, 115 East Main Street\, Purcellville\, VA\, 20132\, United States
CATEGORIES:Food
END:VEVENT
BEGIN:VEVENT
DTSTART;TZID=America/New_York:20260113T180000
DTEND;TZID=America/New_York:20260113T190000
DTSTAMP:20260419T114933
CREATED:20251218T183004Z
LAST-MODIFIED:20251218T183004Z
UID:13425-1768327200-1768330800@www.tolministries.org
SUMMARY:Community Dinner LEESBURG
DESCRIPTION:Join us for a FREE Community Dinner on Tuesday evenings! \nWe’ll have hot\, delicious food and great fellowship – we hope to see you there. \n  \nSign up for text notifications about this and other Tree of Life events by texting TOLLEESBURG to 833-491-0002.
URL:https://www.tolministries.org/event/community-dinner-leesburg-4/2026-01-13/
LOCATION:Crossroads Baptist Church\, 850 Edwards Ferry Rd NE\, Leesburg\, VA\, 20176
CATEGORIES:Food
END:VEVENT
BEGIN:VEVENT
DTSTART;TZID=America/New_York:20260113T183000
DTEND;TZID=America/New_York:20260113T193000
DTSTAMP:20260419T114933
CREATED:20251218T183445Z
LAST-MODIFIED:20260309T195502Z
UID:13479-1768329000-1768332600@www.tolministries.org
SUMMARY:Community Dinner STERLING
DESCRIPTION:Join us for a FREE Community Dinner on Tuesday evenings! \nWe’ll have hot\, delicious food and great fellowship – we hope to see you there. \n  \nSign up for text notifications about this and other Tree of Life events by texting TOLSTERLING to 833-491-0002.
URL:https://www.tolministries.org/event/communtiy-dinner-sterling/2026-01-13/
LOCATION:Sterling Community Center\, 120 Enterprise Street\, Sterling\, 20164
CATEGORIES:Food
END:VEVENT
BEGIN:VEVENT
DTSTART;TZID=America/New_York:20260115T173000
DTEND;TZID=America/New_York:20260115T183000
DTSTAMP:20260419T114933
CREATED:20251218T183316Z
LAST-MODIFIED:20251218T183316Z
UID:13448-1768498200-1768501800@www.tolministries.org
SUMMARY:Community Dinner PURCELLVILLE
DESCRIPTION:Join us for a FREE Community Dinner on Thursday evenings! \nWe’ll have hot\, delicious food and great fellowship – we hope to see you there. \n  \nSign up for text notifications about this and other Tree of Life events by texting TOLPURCELLVILLE to 833-491-0002.
URL:https://www.tolministries.org/event/community-dinner-purcellville-2/2026-01-15/
LOCATION:Tree of Life Center – Purcellville\, 115 East Main Street\, Purcellville\, VA\, 20132\, United States
CATEGORIES:Food
END:VEVENT
BEGIN:VEVENT
DTSTART;TZID=America/New_York:20260120T180000
DTEND;TZID=America/New_York:20260120T190000
DTSTAMP:20260419T114933
CREATED:20251218T183004Z
LAST-MODIFIED:20251218T183004Z
UID:13426-1768932000-1768935600@www.tolministries.org
SUMMARY:Community Dinner LEESBURG
DESCRIPTION:Join us for a FREE Community Dinner on Tuesday evenings! \nWe’ll have hot\, delicious food and great fellowship – we hope to see you there. \n  \nSign up for text notifications about this and other Tree of Life events by texting TOLLEESBURG to 833-491-0002.
URL:https://www.tolministries.org/event/community-dinner-leesburg-4/2026-01-20/
LOCATION:Crossroads Baptist Church\, 850 Edwards Ferry Rd NE\, Leesburg\, VA\, 20176
CATEGORIES:Food
END:VEVENT
BEGIN:VEVENT
DTSTART;TZID=America/New_York:20260120T183000
DTEND;TZID=America/New_York:20260120T193000
DTSTAMP:20260419T114933
CREATED:20251218T183445Z
LAST-MODIFIED:20260309T195502Z
UID:13480-1768933800-1768937400@www.tolministries.org
SUMMARY:Community Dinner STERLING
DESCRIPTION:Join us for a FREE Community Dinner on Tuesday evenings! \nWe’ll have hot\, delicious food and great fellowship – we hope to see you there. \n  \nSign up for text notifications about this and other Tree of Life events by texting TOLSTERLING to 833-491-0002.
URL:https://www.tolministries.org/event/communtiy-dinner-sterling/2026-01-20/
LOCATION:Sterling Community Center\, 120 Enterprise Street\, Sterling\, 20164
CATEGORIES:Food
END:VEVENT
BEGIN:VEVENT
DTSTART;TZID=America/New_York:20260121T173000
DTEND;TZID=America/New_York:20260121T183000
DTSTAMP:20260419T114933
CREATED:20251218T183738Z
LAST-MODIFIED:20251218T183738Z
UID:13528-1769016600-1769020200@www.tolministries.org
SUMMARY:Community Dinner UPPERVILLE
DESCRIPTION:Join us for a FREE Community Dinner on the third Wednesday of each month! \nWe’ll have hot\, delicious food and great fellowship – we hope to see you there. \n  \nSign up for text notifications about this and other Tree of Life events by texting TOLPIEDMONT to 833-491-0002.
URL:https://www.tolministries.org/event/community-dinner-upperville/2026-01-21/
LOCATION:Trinity Episcopal Church\, 9108 John S Mosby Hway\, Upperville\, VA\, 20184\, United States
CATEGORIES:Food
END:VEVENT
BEGIN:VEVENT
DTSTART;TZID=America/New_York:20260122T173000
DTEND;TZID=America/New_York:20260122T183000
DTSTAMP:20260419T114933
CREATED:20251218T183316Z
LAST-MODIFIED:20251218T183316Z
UID:13449-1769103000-1769106600@www.tolministries.org
SUMMARY:Community Dinner PURCELLVILLE
DESCRIPTION:Join us for a FREE Community Dinner on Thursday evenings! \nWe’ll have hot\, delicious food and great fellowship – we hope to see you there. \n  \nSign up for text notifications about this and other Tree of Life events by texting TOLPURCELLVILLE to 833-491-0002.
URL:https://www.tolministries.org/event/community-dinner-purcellville-2/2026-01-22/
LOCATION:Tree of Life Center – Purcellville\, 115 East Main Street\, Purcellville\, VA\, 20132\, United States
CATEGORIES:Food
END:VEVENT
BEGIN:VEVENT
DTSTART;TZID=America/New_York:20260127T180000
DTEND;TZID=America/New_York:20260127T190000
DTSTAMP:20260419T114933
CREATED:20251218T183004Z
LAST-MODIFIED:20251218T183004Z
UID:13427-1769536800-1769540400@www.tolministries.org
SUMMARY:Community Dinner LEESBURG
DESCRIPTION:Join us for a FREE Community Dinner on Tuesday evenings! \nWe’ll have hot\, delicious food and great fellowship – we hope to see you there. \n  \nSign up for text notifications about this and other Tree of Life events by texting TOLLEESBURG to 833-491-0002.
URL:https://www.tolministries.org/event/community-dinner-leesburg-4/2026-01-27/
LOCATION:Crossroads Baptist Church\, 850 Edwards Ferry Rd NE\, Leesburg\, VA\, 20176
CATEGORIES:Food
END:VEVENT
BEGIN:VEVENT
DTSTART;TZID=America/New_York:20260127T183000
DTEND;TZID=America/New_York:20260127T193000
DTSTAMP:20260419T114933
CREATED:20251218T183445Z
LAST-MODIFIED:20260309T195503Z
UID:13481-1769538600-1769542200@www.tolministries.org
SUMMARY:Community Dinner STERLING
DESCRIPTION:Join us for a FREE Community Dinner on Tuesday evenings! \nWe’ll have hot\, delicious food and great fellowship – we hope to see you there. \n  \nSign up for text notifications about this and other Tree of Life events by texting TOLSTERLING to 833-491-0002.
URL:https://www.tolministries.org/event/communtiy-dinner-sterling/2026-01-27/
LOCATION:Sterling Community Center\, 120 Enterprise Street\, Sterling\, 20164
CATEGORIES:Food
END:VEVENT
BEGIN:VEVENT
DTSTART;TZID=America/New_York:20260129T173000
DTEND;TZID=America/New_York:20260129T183000
DTSTAMP:20260419T114933
CREATED:20251218T183316Z
LAST-MODIFIED:20251218T183316Z
UID:13450-1769707800-1769711400@www.tolministries.org
SUMMARY:Community Dinner PURCELLVILLE
DESCRIPTION:Join us for a FREE Community Dinner on Thursday evenings! \nWe’ll have hot\, delicious food and great fellowship – we hope to see you there. \n  \nSign up for text notifications about this and other Tree of Life events by texting TOLPURCELLVILLE to 833-491-0002.
URL:https://www.tolministries.org/event/community-dinner-purcellville-2/2026-01-29/
LOCATION:Tree of Life Center – Purcellville\, 115 East Main Street\, Purcellville\, VA\, 20132\, United States
CATEGORIES:Food
END:VEVENT
END:VCALENDAR