BEGIN:VCALENDAR
VERSION:2.0
PRODID:-//Tree of Life - ECPv6.15.18//NONSGML v1.0//EN
CALSCALE:GREGORIAN
METHOD:PUBLISH
X-WR-CALNAME:Tree of Life
X-ORIGINAL-URL:https://www.tolministries.org
X-WR-CALDESC:Events for Tree of Life
REFRESH-INTERVAL;VALUE=DURATION:PT1H
X-Robots-Tag:noindex
X-PUBLISHED-TTL:PT1H
BEGIN:VTIMEZONE
TZID:America/New_York
BEGIN:DAYLIGHT
TZOFFSETFROM:-0500
TZOFFSETTO:-0400
TZNAME:EDT
DTSTART:20240310T070000
END:DAYLIGHT
BEGIN:STANDARD
TZOFFSETFROM:-0400
TZOFFSETTO:-0500
TZNAME:EST
DTSTART:20241103T060000
END:STANDARD
BEGIN:DAYLIGHT
TZOFFSETFROM:-0500
TZOFFSETTO:-0400
TZNAME:EDT
DTSTART:20250309T070000
END:DAYLIGHT
BEGIN:STANDARD
TZOFFSETFROM:-0400
TZOFFSETTO:-0500
TZNAME:EST
DTSTART:20251102T060000
END:STANDARD
BEGIN:DAYLIGHT
TZOFFSETFROM:-0500
TZOFFSETTO:-0400
TZNAME:EDT
DTSTART:20260308T070000
END:DAYLIGHT
BEGIN:STANDARD
TZOFFSETFROM:-0400
TZOFFSETTO:-0500
TZNAME:EST
DTSTART:20261101T060000
END:STANDARD
END:VTIMEZONE
BEGIN:VEVENT
DTSTART;TZID=America/New_York:20251002T173000
DTEND;TZID=America/New_York:20251002T183000
DTSTAMP:20260419T202731
CREATED:20241219T162925Z
LAST-MODIFIED:20241219T162925Z
UID:12095-1759426200-1759429800@www.tolministries.org
SUMMARY:Community Dinner PURCELLVILLE
DESCRIPTION:Join us every Thursday at our center in Western Loudoun for a free community dinner!  Enjoy a hot\, homecooked meal and fellowship with your neighbors.
URL:https://www.tolministries.org/event/community-dinner-purcellville/2025-10-02/
LOCATION:Tree of Life Center – Purcellville\, 115 East Main Street\, Purcellville\, VA\, 20132\, United States
CATEGORIES:Food
END:VEVENT
BEGIN:VEVENT
DTSTART;TZID=America/New_York:20251007T180000
DTEND;TZID=America/New_York:20251007T190000
DTSTAMP:20260419T202731
CREATED:20250729T160718Z
LAST-MODIFIED:20250729T160718Z
UID:13106-1759860000-1759863600@www.tolministries.org
SUMMARY:Community Dinner LEESBURG
DESCRIPTION:Join us for a FREE Community Dinner on Tuesday evenings! \nWe’ll have hot\, delicious food and great fellowship – we hope to see you there. \n  \nSign up for text notifications about this and other Tree of Life events by texting TOLLEESBURG to 833-491-0002. \n 
URL:https://www.tolministries.org/event/community-dinner-leesburg-3/2025-10-07/
LOCATION:Crossroads Baptist Church\, 850 Edwards Ferry Rd NE\, Leesburg\, VA\, 20176
CATEGORIES:Food
END:VEVENT
BEGIN:VEVENT
DTSTART;TZID=America/New_York:20251007T183000
DTEND;TZID=America/New_York:20251007T193000
DTSTAMP:20260419T202731
CREATED:20241219T163445Z
LAST-MODIFIED:20241219T163445Z
UID:12195-1759861800-1759865400@www.tolministries.org
SUMMARY:Community Dinner STERLING
DESCRIPTION:Join us every Thursday at the Sterling Community Center for a free community dinner!  Enjoy a hot meal and fellowship with your neighbors.
URL:https://www.tolministries.org/event/community-dinner-sterling-2/2025-10-07/
LOCATION:Sterling Community Center\, 120 Enterprise Street\, Sterling\, 20164
CATEGORIES:Food
END:VEVENT
BEGIN:VEVENT
DTSTART;TZID=America/New_York:20251009T173000
DTEND;TZID=America/New_York:20251009T183000
DTSTAMP:20260419T202731
CREATED:20241219T162925Z
LAST-MODIFIED:20241219T162925Z
UID:12096-1760031000-1760034600@www.tolministries.org
SUMMARY:Community Dinner PURCELLVILLE
DESCRIPTION:Join us every Thursday at our center in Western Loudoun for a free community dinner!  Enjoy a hot\, homecooked meal and fellowship with your neighbors.
URL:https://www.tolministries.org/event/community-dinner-purcellville/2025-10-09/
LOCATION:Tree of Life Center – Purcellville\, 115 East Main Street\, Purcellville\, VA\, 20132\, United States
CATEGORIES:Food
END:VEVENT
BEGIN:VEVENT
DTSTART;TZID=America/New_York:20251014T180000
DTEND;TZID=America/New_York:20251014T190000
DTSTAMP:20260419T202731
CREATED:20250729T160718Z
LAST-MODIFIED:20250729T160718Z
UID:13107-1760464800-1760468400@www.tolministries.org
SUMMARY:Community Dinner LEESBURG
DESCRIPTION:Join us for a FREE Community Dinner on Tuesday evenings! \nWe’ll have hot\, delicious food and great fellowship – we hope to see you there. \n  \nSign up for text notifications about this and other Tree of Life events by texting TOLLEESBURG to 833-491-0002. \n 
URL:https://www.tolministries.org/event/community-dinner-leesburg-3/2025-10-14/
LOCATION:Crossroads Baptist Church\, 850 Edwards Ferry Rd NE\, Leesburg\, VA\, 20176
CATEGORIES:Food
END:VEVENT
BEGIN:VEVENT
DTSTART;TZID=America/New_York:20251014T183000
DTEND;TZID=America/New_York:20251014T193000
DTSTAMP:20260419T202731
CREATED:20241219T163445Z
LAST-MODIFIED:20241219T163445Z
UID:12196-1760466600-1760470200@www.tolministries.org
SUMMARY:Community Dinner STERLING
DESCRIPTION:Join us every Thursday at the Sterling Community Center for a free community dinner!  Enjoy a hot meal and fellowship with your neighbors.
URL:https://www.tolministries.org/event/community-dinner-sterling-2/2025-10-14/
LOCATION:Sterling Community Center\, 120 Enterprise Street\, Sterling\, 20164
CATEGORIES:Food
END:VEVENT
BEGIN:VEVENT
DTSTART;TZID=America/New_York:20251016T173000
DTEND;TZID=America/New_York:20251016T183000
DTSTAMP:20260419T202731
CREATED:20241219T162925Z
LAST-MODIFIED:20241219T162925Z
UID:12097-1760635800-1760639400@www.tolministries.org
SUMMARY:Community Dinner PURCELLVILLE
DESCRIPTION:Join us every Thursday at our center in Western Loudoun for a free community dinner!  Enjoy a hot\, homecooked meal and fellowship with your neighbors.
URL:https://www.tolministries.org/event/community-dinner-purcellville/2025-10-16/
LOCATION:Tree of Life Center – Purcellville\, 115 East Main Street\, Purcellville\, VA\, 20132\, United States
CATEGORIES:Food
END:VEVENT
BEGIN:VEVENT
DTSTART;TZID=America/New_York:20251021T180000
DTEND;TZID=America/New_York:20251021T190000
DTSTAMP:20260419T202731
CREATED:20250729T160718Z
LAST-MODIFIED:20250729T160718Z
UID:13108-1761069600-1761073200@www.tolministries.org
SUMMARY:Community Dinner LEESBURG
DESCRIPTION:Join us for a FREE Community Dinner on Tuesday evenings! \nWe’ll have hot\, delicious food and great fellowship – we hope to see you there. \n  \nSign up for text notifications about this and other Tree of Life events by texting TOLLEESBURG to 833-491-0002. \n 
URL:https://www.tolministries.org/event/community-dinner-leesburg-3/2025-10-21/
LOCATION:Crossroads Baptist Church\, 850 Edwards Ferry Rd NE\, Leesburg\, VA\, 20176
CATEGORIES:Food
END:VEVENT
BEGIN:VEVENT
DTSTART;TZID=America/New_York:20251021T183000
DTEND;TZID=America/New_York:20251021T193000
DTSTAMP:20260419T202731
CREATED:20241219T163445Z
LAST-MODIFIED:20241219T163445Z
UID:12197-1761071400-1761075000@www.tolministries.org
SUMMARY:Community Dinner STERLING
DESCRIPTION:Join us every Thursday at the Sterling Community Center for a free community dinner!  Enjoy a hot meal and fellowship with your neighbors.
URL:https://www.tolministries.org/event/community-dinner-sterling-2/2025-10-21/
LOCATION:Sterling Community Center\, 120 Enterprise Street\, Sterling\, 20164
CATEGORIES:Food
END:VEVENT
BEGIN:VEVENT
DTSTART;TZID=America/New_York:20251023T173000
DTEND;TZID=America/New_York:20251023T183000
DTSTAMP:20260419T202731
CREATED:20241219T162925Z
LAST-MODIFIED:20241219T162925Z
UID:12098-1761240600-1761244200@www.tolministries.org
SUMMARY:Community Dinner PURCELLVILLE
DESCRIPTION:Join us every Thursday at our center in Western Loudoun for a free community dinner!  Enjoy a hot\, homecooked meal and fellowship with your neighbors.
URL:https://www.tolministries.org/event/community-dinner-purcellville/2025-10-23/
LOCATION:Tree of Life Center – Purcellville\, 115 East Main Street\, Purcellville\, VA\, 20132\, United States
CATEGORIES:Food
END:VEVENT
BEGIN:VEVENT
DTSTART;TZID=America/New_York:20251028T180000
DTEND;TZID=America/New_York:20251028T190000
DTSTAMP:20260419T202731
CREATED:20250729T160719Z
LAST-MODIFIED:20250729T160719Z
UID:13109-1761674400-1761678000@www.tolministries.org
SUMMARY:Community Dinner LEESBURG
DESCRIPTION:Join us for a FREE Community Dinner on Tuesday evenings! \nWe’ll have hot\, delicious food and great fellowship – we hope to see you there. \n  \nSign up for text notifications about this and other Tree of Life events by texting TOLLEESBURG to 833-491-0002. \n 
URL:https://www.tolministries.org/event/community-dinner-leesburg-3/2025-10-28/
LOCATION:Crossroads Baptist Church\, 850 Edwards Ferry Rd NE\, Leesburg\, VA\, 20176
CATEGORIES:Food
END:VEVENT
BEGIN:VEVENT
DTSTART;TZID=America/New_York:20251028T183000
DTEND;TZID=America/New_York:20251028T193000
DTSTAMP:20260419T202731
CREATED:20241219T163445Z
LAST-MODIFIED:20241219T163445Z
UID:12198-1761676200-1761679800@www.tolministries.org
SUMMARY:Community Dinner STERLING
DESCRIPTION:Join us every Thursday at the Sterling Community Center for a free community dinner!  Enjoy a hot meal and fellowship with your neighbors.
URL:https://www.tolministries.org/event/community-dinner-sterling-2/2025-10-28/
LOCATION:Sterling Community Center\, 120 Enterprise Street\, Sterling\, 20164
CATEGORIES:Food
END:VEVENT
BEGIN:VEVENT
DTSTART;TZID=America/New_York:20251030T173000
DTEND;TZID=America/New_York:20251030T183000
DTSTAMP:20260419T202731
CREATED:20241219T162925Z
LAST-MODIFIED:20241219T162925Z
UID:12099-1761845400-1761849000@www.tolministries.org
SUMMARY:Community Dinner PURCELLVILLE
DESCRIPTION:Join us every Thursday at our center in Western Loudoun for a free community dinner!  Enjoy a hot\, homecooked meal and fellowship with your neighbors.
URL:https://www.tolministries.org/event/community-dinner-purcellville/2025-10-30/
LOCATION:Tree of Life Center – Purcellville\, 115 East Main Street\, Purcellville\, VA\, 20132\, United States
CATEGORIES:Food
END:VEVENT
END:VCALENDAR