BEGIN:VCALENDAR
VERSION:2.0
PRODID:-//Tree of Life - ECPv6.15.18//NONSGML v1.0//EN
CALSCALE:GREGORIAN
METHOD:PUBLISH
X-WR-CALNAME:Tree of Life
X-ORIGINAL-URL:https://www.tolministries.org
X-WR-CALDESC:Events for Tree of Life
REFRESH-INTERVAL;VALUE=DURATION:PT1H
X-Robots-Tag:noindex
X-PUBLISHED-TTL:PT1H
BEGIN:VTIMEZONE
TZID:America/New_York
BEGIN:DAYLIGHT
TZOFFSETFROM:-0500
TZOFFSETTO:-0400
TZNAME:EDT
DTSTART:20240310T070000
END:DAYLIGHT
BEGIN:STANDARD
TZOFFSETFROM:-0400
TZOFFSETTO:-0500
TZNAME:EST
DTSTART:20241103T060000
END:STANDARD
BEGIN:DAYLIGHT
TZOFFSETFROM:-0500
TZOFFSETTO:-0400
TZNAME:EDT
DTSTART:20250309T070000
END:DAYLIGHT
BEGIN:STANDARD
TZOFFSETFROM:-0400
TZOFFSETTO:-0500
TZNAME:EST
DTSTART:20251102T060000
END:STANDARD
BEGIN:DAYLIGHT
TZOFFSETFROM:-0500
TZOFFSETTO:-0400
TZNAME:EDT
DTSTART:20260308T070000
END:DAYLIGHT
BEGIN:STANDARD
TZOFFSETFROM:-0400
TZOFFSETTO:-0500
TZNAME:EST
DTSTART:20261101T060000
END:STANDARD
END:VTIMEZONE
BEGIN:VEVENT
DTSTART;TZID=America/New_York:20250902T180000
DTEND;TZID=America/New_York:20250902T190000
DTSTAMP:20260419T221855
CREATED:20250729T160716Z
LAST-MODIFIED:20250729T160716Z
UID:13101-1756836000-1756839600@www.tolministries.org
SUMMARY:Community Dinner LEESBURG
DESCRIPTION:Join us for a FREE Community Dinner on Tuesday evenings! \nWe’ll have hot\, delicious food and great fellowship – we hope to see you there. \n  \nSign up for text notifications about this and other Tree of Life events by texting TOLLEESBURG to 833-491-0002. \n 
URL:https://www.tolministries.org/event/community-dinner-leesburg-3/2025-09-02/
LOCATION:Crossroads Baptist Church\, 850 Edwards Ferry Rd NE\, Leesburg\, VA\, 20176
CATEGORIES:Food
END:VEVENT
BEGIN:VEVENT
DTSTART;TZID=America/New_York:20250902T183000
DTEND;TZID=America/New_York:20250902T193000
DTSTAMP:20260419T221855
CREATED:20241219T163445Z
LAST-MODIFIED:20241219T163445Z
UID:12190-1756837800-1756841400@www.tolministries.org
SUMMARY:Community Dinner STERLING
DESCRIPTION:Join us every Thursday at the Sterling Community Center for a free community dinner!  Enjoy a hot meal and fellowship with your neighbors.
URL:https://www.tolministries.org/event/community-dinner-sterling-2/2025-09-02/
LOCATION:Sterling Community Center\, 120 Enterprise Street\, Sterling\, 20164
CATEGORIES:Food
END:VEVENT
BEGIN:VEVENT
DTSTART;TZID=America/New_York:20250904T173000
DTEND;TZID=America/New_York:20250904T183000
DTSTAMP:20260419T221855
CREATED:20241219T162925Z
LAST-MODIFIED:20241219T162925Z
UID:12091-1757007000-1757010600@www.tolministries.org
SUMMARY:Community Dinner PURCELLVILLE
DESCRIPTION:Join us every Thursday at our center in Western Loudoun for a free community dinner!  Enjoy a hot\, homecooked meal and fellowship with your neighbors.
URL:https://www.tolministries.org/event/community-dinner-purcellville/2025-09-04/
LOCATION:Tree of Life Center – Purcellville\, 115 East Main Street\, Purcellville\, VA\, 20132\, United States
CATEGORIES:Food
END:VEVENT
BEGIN:VEVENT
DTSTART;TZID=America/New_York:20250909T180000
DTEND;TZID=America/New_York:20250909T190000
DTSTAMP:20260419T221855
CREATED:20250729T160716Z
LAST-MODIFIED:20250729T160716Z
UID:13102-1757440800-1757444400@www.tolministries.org
SUMMARY:Community Dinner LEESBURG
DESCRIPTION:Join us for a FREE Community Dinner on Tuesday evenings! \nWe’ll have hot\, delicious food and great fellowship – we hope to see you there. \n  \nSign up for text notifications about this and other Tree of Life events by texting TOLLEESBURG to 833-491-0002. \n 
URL:https://www.tolministries.org/event/community-dinner-leesburg-3/2025-09-09/
LOCATION:Crossroads Baptist Church\, 850 Edwards Ferry Rd NE\, Leesburg\, VA\, 20176
CATEGORIES:Food
END:VEVENT
BEGIN:VEVENT
DTSTART;TZID=America/New_York:20250909T183000
DTEND;TZID=America/New_York:20250909T193000
DTSTAMP:20260419T221855
CREATED:20241219T163445Z
LAST-MODIFIED:20241219T163445Z
UID:12191-1757442600-1757446200@www.tolministries.org
SUMMARY:Community Dinner STERLING
DESCRIPTION:Join us every Thursday at the Sterling Community Center for a free community dinner!  Enjoy a hot meal and fellowship with your neighbors.
URL:https://www.tolministries.org/event/community-dinner-sterling-2/2025-09-09/
LOCATION:Sterling Community Center\, 120 Enterprise Street\, Sterling\, 20164
CATEGORIES:Food
END:VEVENT
BEGIN:VEVENT
DTSTART;TZID=America/New_York:20250911T173000
DTEND;TZID=America/New_York:20250911T183000
DTSTAMP:20260419T221855
CREATED:20241219T162925Z
LAST-MODIFIED:20241219T162925Z
UID:12092-1757611800-1757615400@www.tolministries.org
SUMMARY:Community Dinner PURCELLVILLE
DESCRIPTION:Join us every Thursday at our center in Western Loudoun for a free community dinner!  Enjoy a hot\, homecooked meal and fellowship with your neighbors.
URL:https://www.tolministries.org/event/community-dinner-purcellville/2025-09-11/
LOCATION:Tree of Life Center – Purcellville\, 115 East Main Street\, Purcellville\, VA\, 20132\, United States
CATEGORIES:Food
END:VEVENT
BEGIN:VEVENT
DTSTART;TZID=America/New_York:20250916T180000
DTEND;TZID=America/New_York:20250916T190000
DTSTAMP:20260419T221855
CREATED:20250729T160717Z
LAST-MODIFIED:20250729T160717Z
UID:13103-1758045600-1758049200@www.tolministries.org
SUMMARY:Community Dinner LEESBURG
DESCRIPTION:Join us for a FREE Community Dinner on Tuesday evenings! \nWe’ll have hot\, delicious food and great fellowship – we hope to see you there. \n  \nSign up for text notifications about this and other Tree of Life events by texting TOLLEESBURG to 833-491-0002. \n 
URL:https://www.tolministries.org/event/community-dinner-leesburg-3/2025-09-16/
LOCATION:Crossroads Baptist Church\, 850 Edwards Ferry Rd NE\, Leesburg\, VA\, 20176
CATEGORIES:Food
END:VEVENT
BEGIN:VEVENT
DTSTART;TZID=America/New_York:20250916T183000
DTEND;TZID=America/New_York:20250916T193000
DTSTAMP:20260419T221855
CREATED:20241219T163445Z
LAST-MODIFIED:20241219T163445Z
UID:12192-1758047400-1758051000@www.tolministries.org
SUMMARY:Community Dinner STERLING
DESCRIPTION:Join us every Thursday at the Sterling Community Center for a free community dinner!  Enjoy a hot meal and fellowship with your neighbors.
URL:https://www.tolministries.org/event/community-dinner-sterling-2/2025-09-16/
LOCATION:Sterling Community Center\, 120 Enterprise Street\, Sterling\, 20164
CATEGORIES:Food
END:VEVENT
BEGIN:VEVENT
DTSTART;TZID=America/New_York:20250918T173000
DTEND;TZID=America/New_York:20250918T183000
DTSTAMP:20260419T221855
CREATED:20241219T162925Z
LAST-MODIFIED:20241219T162925Z
UID:12093-1758216600-1758220200@www.tolministries.org
SUMMARY:Community Dinner PURCELLVILLE
DESCRIPTION:Join us every Thursday at our center in Western Loudoun for a free community dinner!  Enjoy a hot\, homecooked meal and fellowship with your neighbors.
URL:https://www.tolministries.org/event/community-dinner-purcellville/2025-09-18/
LOCATION:Tree of Life Center – Purcellville\, 115 East Main Street\, Purcellville\, VA\, 20132\, United States
CATEGORIES:Food
END:VEVENT
BEGIN:VEVENT
DTSTART;TZID=America/New_York:20250923T180000
DTEND;TZID=America/New_York:20250923T190000
DTSTAMP:20260419T221855
CREATED:20250729T160717Z
LAST-MODIFIED:20250729T160717Z
UID:13104-1758650400-1758654000@www.tolministries.org
SUMMARY:Community Dinner LEESBURG
DESCRIPTION:Join us for a FREE Community Dinner on Tuesday evenings! \nWe’ll have hot\, delicious food and great fellowship – we hope to see you there. \n  \nSign up for text notifications about this and other Tree of Life events by texting TOLLEESBURG to 833-491-0002. \n 
URL:https://www.tolministries.org/event/community-dinner-leesburg-3/2025-09-23/
LOCATION:Crossroads Baptist Church\, 850 Edwards Ferry Rd NE\, Leesburg\, VA\, 20176
CATEGORIES:Food
END:VEVENT
BEGIN:VEVENT
DTSTART;TZID=America/New_York:20250923T183000
DTEND;TZID=America/New_York:20250923T193000
DTSTAMP:20260419T221855
CREATED:20241219T163445Z
LAST-MODIFIED:20241219T163445Z
UID:12193-1758652200-1758655800@www.tolministries.org
SUMMARY:Community Dinner STERLING
DESCRIPTION:Join us every Thursday at the Sterling Community Center for a free community dinner!  Enjoy a hot meal and fellowship with your neighbors.
URL:https://www.tolministries.org/event/community-dinner-sterling-2/2025-09-23/
LOCATION:Sterling Community Center\, 120 Enterprise Street\, Sterling\, 20164
CATEGORIES:Food
END:VEVENT
BEGIN:VEVENT
DTSTART;TZID=America/New_York:20250925T173000
DTEND;TZID=America/New_York:20250925T183000
DTSTAMP:20260419T221855
CREATED:20241219T162925Z
LAST-MODIFIED:20241219T162925Z
UID:12094-1758821400-1758825000@www.tolministries.org
SUMMARY:Community Dinner PURCELLVILLE
DESCRIPTION:Join us every Thursday at our center in Western Loudoun for a free community dinner!  Enjoy a hot\, homecooked meal and fellowship with your neighbors.
URL:https://www.tolministries.org/event/community-dinner-purcellville/2025-09-25/
LOCATION:Tree of Life Center – Purcellville\, 115 East Main Street\, Purcellville\, VA\, 20132\, United States
CATEGORIES:Food
END:VEVENT
BEGIN:VEVENT
DTSTART;TZID=America/New_York:20250930T180000
DTEND;TZID=America/New_York:20250930T190000
DTSTAMP:20260419T221855
CREATED:20250729T160717Z
LAST-MODIFIED:20250729T160717Z
UID:13105-1759255200-1759258800@www.tolministries.org
SUMMARY:Community Dinner LEESBURG
DESCRIPTION:Join us for a FREE Community Dinner on Tuesday evenings! \nWe’ll have hot\, delicious food and great fellowship – we hope to see you there. \n  \nSign up for text notifications about this and other Tree of Life events by texting TOLLEESBURG to 833-491-0002. \n 
URL:https://www.tolministries.org/event/community-dinner-leesburg-3/2025-09-30/
LOCATION:Crossroads Baptist Church\, 850 Edwards Ferry Rd NE\, Leesburg\, VA\, 20176
CATEGORIES:Food
END:VEVENT
BEGIN:VEVENT
DTSTART;TZID=America/New_York:20250930T183000
DTEND;TZID=America/New_York:20250930T193000
DTSTAMP:20260419T221855
CREATED:20241219T163445Z
LAST-MODIFIED:20241219T163445Z
UID:12194-1759257000-1759260600@www.tolministries.org
SUMMARY:Community Dinner STERLING
DESCRIPTION:Join us every Thursday at the Sterling Community Center for a free community dinner!  Enjoy a hot meal and fellowship with your neighbors.
URL:https://www.tolministries.org/event/community-dinner-sterling-2/2025-09-30/
LOCATION:Sterling Community Center\, 120 Enterprise Street\, Sterling\, 20164
CATEGORIES:Food
END:VEVENT
END:VCALENDAR